Package: phenopath Version: 1.24.0 Command: /Library/Frameworks/R.framework/Resources/bin/R CMD INSTALL phenopath StartedAt: 2023-10-15 15:13:46 -0400 (Sun, 15 Oct 2023) EndedAt: 2023-10-15 15:15:34 -0400 (Sun, 15 Oct 2023) EllapsedTime: 108.5 seconds RetCode: 0 Status: OK