Package: phenopath Version: 1.24.0 Command: /Library/Frameworks/R.framework/Resources/bin/R CMD build --keep-empty-dirs --no-resave-data phenopath StartedAt: 2023-10-15 20:15:39 -0400 (Sun, 15 Oct 2023) EndedAt: 2023-10-15 20:18:19 -0400 (Sun, 15 Oct 2023) EllapsedTime: 159.9 seconds RetCode: 0 Status: OK PackageFile: phenopath_1.24.0.tar.gz PackageFileSize: 1.287 MiB