Package: phenopath Version: 1.24.0 Command: rm -rf phenopath.buildbin-libdir && mkdir phenopath.buildbin-libdir && /Users/biocbuild/BBS/utils/build-universal.sh phenopath_1.24.0.tar.gz /Library/Frameworks/R.framework/Resources/bin/R phenopath.buildbin-libdir StartedAt: 2023-10-16 09:55:15 -0400 (Mon, 16 Oct 2023) EndedAt: 2023-10-16 09:56:59 -0400 (Mon, 16 Oct 2023) EllapsedTime: 104.1 seconds RetCode: 0 Status: OK PackageFile: phenopath_1.24.0.tgz PackageFileSize: 1014 KiB