Package: pgca Version: 1.24.0 Command: /home/biocbuild/bbs-3.17-bioc/R/bin/R CMD INSTALL pgca StartedAt: 2023-10-15 15:07:59 -0400 (Sun, 15 Oct 2023) EndedAt: 2023-10-15 15:08:21 -0400 (Sun, 15 Oct 2023) EllapsedTime: 22.5 seconds RetCode: 0 Status: OK