Package: pathwayPCA Version: 1.16.1 Command: /Library/Frameworks/R.framework/Resources/bin/R CMD build --keep-empty-dirs --no-resave-data pathwayPCA StartedAt: 2023-10-15 20:10:07 -0400 (Sun, 15 Oct 2023) EndedAt: 2023-10-15 20:17:24 -0400 (Sun, 15 Oct 2023) EllapsedTime: 437.2 seconds RetCode: 0 Status: OK PackageFile: pathwayPCA_1.16.1.tar.gz PackageFileSize: 3.312 MiB