Package: pathview Version: 1.40.0 Command: /home/biocbuild/bbs-3.17-bioc/R/bin/R CMD check --install=check:pathview.install-out.txt --library=/home/biocbuild/bbs-3.17-bioc/R/site-library --timings pathview_1.40.0.tar.gz StartedAt: 2023-10-15 23:44:21 -0400 (Sun, 15 Oct 2023) EndedAt: 2023-10-15 23:51:14 -0400 (Sun, 15 Oct 2023) EllapsedTime: 413.3 seconds RetCode: 0 Status: WARNINGS CheckDir: pathview.Rcheck Warnings: 2