Package: pathview Version: 1.40.0 Command: /home/biocbuild/bbs-3.17-bioc/R/bin/R CMD build --keep-empty-dirs --no-resave-data pathview StartedAt: 2023-10-15 17:53:45 -0400 (Sun, 15 Oct 2023) EndedAt: 2023-10-15 17:56:26 -0400 (Sun, 15 Oct 2023) EllapsedTime: 161.1 seconds RetCode: 0 Status: OK PackageFile: pathview_1.40.0.tar.gz PackageFileSize: 2.128 MiB