Package: pathifier Version: 1.38.0 Command: /Library/Frameworks/R.framework/Resources/bin/R CMD check --install=check:pathifier.install-out.txt --library=/Library/Frameworks/R.framework/Resources/library --no-vignettes --timings pathifier_1.38.0.tar.gz StartedAt: 2023-10-16 05:06:53 -0400 (Mon, 16 Oct 2023) EndedAt: 2023-10-16 05:08:45 -0400 (Mon, 16 Oct 2023) EllapsedTime: 111.6 seconds RetCode: 0 Status: OK CheckDir: pathifier.Rcheck Warnings: 0