Package: pareg Version: 1.4.1 Command: F:\biocbuild\bbs-3.17-bioc\R\bin\R.exe CMD check --no-multiarch --install=check:pareg.install-out.txt --library=F:\biocbuild\bbs-3.17-bioc\R\library --no-vignettes --timings pareg_1.4.1.tar.gz StartedAt: 2023-10-16 05:08:34 -0400 (Mon, 16 Oct 2023) EndedAt: 2023-10-16 05:13:33 -0400 (Mon, 16 Oct 2023) EllapsedTime: 298.7 seconds RetCode: 0 Status: OK CheckDir: pareg.Rcheck Warnings: 0