Package: pareg Version: 1.4.1 Command: chmod a+r pareg -R && F:\biocbuild\bbs-3.17-bioc\R\bin\R.exe --arch x64 CMD build --keep-empty-dirs --no-resave-data pareg StartedAt: 2023-10-15 21:14:05 -0400 (Sun, 15 Oct 2023) EndedAt: 2023-10-15 21:17:54 -0400 (Sun, 15 Oct 2023) EllapsedTime: 228.8 seconds RetCode: 0 Status: OK PackageFile: pareg_1.4.1.tar.gz PackageFileSize: 2.577 MiB