Package: pareg Version: 1.4.1 Command: rm -rf pareg.buildbin-libdir && mkdir pareg.buildbin-libdir && F:\biocbuild\bbs-3.17-bioc\R\bin\R.exe CMD INSTALL --build --library=pareg.buildbin-libdir pareg_1.4.1.tar.gz StartedAt: 2023-10-16 09:14:24 -0400 (Mon, 16 Oct 2023) EndedAt: 2023-10-16 09:15:00 -0400 (Mon, 16 Oct 2023) EllapsedTime: 35.8 seconds RetCode: 0 Status: OK PackageFile: pareg_1.4.1.zip PackageFileSize: 2.715 MiB