Package: pareg Version: 1.4.1 Command: /home/biocbuild/bbs-3.17-bioc/R/bin/R CMD INSTALL pareg StartedAt: 2023-10-15 15:35:12 -0400 (Sun, 15 Oct 2023) EndedAt: 2023-10-15 15:35:32 -0400 (Sun, 15 Oct 2023) EllapsedTime: 19.7 seconds RetCode: 0 Status: OK