Package: pareg Version: 1.4.1 Command: rm -rf pareg.buildbin-libdir && mkdir pareg.buildbin-libdir && /Users/biocbuild/BBS/utils/build-universal.sh pareg_1.4.1.tar.gz /Library/Frameworks/R.framework/Resources/bin/R pareg.buildbin-libdir StartedAt: 2023-10-16 09:53:50 -0400 (Mon, 16 Oct 2023) EndedAt: 2023-10-16 09:55:03 -0400 (Mon, 16 Oct 2023) EllapsedTime: 73.9 seconds RetCode: 0 Status: OK PackageFile: pareg_1.4.1.tgz PackageFileSize: 3.028 MiB