Package: paircompviz Version: 1.38.0 Command: F:\biocbuild\bbs-3.17-bioc\R\bin\R.exe CMD check --no-multiarch --install=check:paircompviz.install-out.txt --library=F:\biocbuild\bbs-3.17-bioc\R\library --no-vignettes --timings paircompviz_1.38.0.tar.gz StartedAt: 2023-10-16 05:05:41 -0400 (Mon, 16 Oct 2023) EndedAt: 2023-10-16 05:06:32 -0400 (Mon, 16 Oct 2023) EllapsedTime: 51.7 seconds RetCode: 0 Status: OK CheckDir: paircompviz.Rcheck Warnings: 0