Package: oppar Version: 1.28.0 Command: /Library/Frameworks/R.framework/Resources/bin/R CMD INSTALL oppar StartedAt: 2023-10-15 16:17:42 -0400 (Sun, 15 Oct 2023) EndedAt: 2023-10-15 16:19:33 -0400 (Sun, 15 Oct 2023) EllapsedTime: 111.4 seconds RetCode: 0 Status: OK