Package: oppar Version: 1.28.0 Command: /Library/Frameworks/R.framework/Resources/bin/R CMD build --keep-empty-dirs --no-resave-data oppar StartedAt: 2023-10-15 20:01:48 -0400 (Sun, 15 Oct 2023) EndedAt: 2023-10-15 20:04:33 -0400 (Sun, 15 Oct 2023) EllapsedTime: 165.0 seconds RetCode: 0 Status: OK PackageFile: oppar_1.28.0.tar.gz PackageFileSize: 3.392 MiB