Package: onlineFDR Version: 2.8.0 Command: chmod a+r onlineFDR -R && F:\biocbuild\bbs-3.17-bioc\R\bin\R.exe CMD build --keep-empty-dirs --no-resave-data onlineFDR StartedAt: 2023-10-15 21:00:45 -0400 (Sun, 15 Oct 2023) EndedAt: 2023-10-15 21:02:02 -0400 (Sun, 15 Oct 2023) EllapsedTime: 76.3 seconds RetCode: 0 Status: OK PackageFile: onlineFDR_2.8.0.tar.gz PackageFileSize: 1.913 MiB