Package: onlineFDR Version: 2.8.0 Command: rm -rf onlineFDR.buildbin-libdir && mkdir onlineFDR.buildbin-libdir && F:\biocbuild\bbs-3.17-bioc\R\bin\R.exe CMD INSTALL --build --library=onlineFDR.buildbin-libdir onlineFDR_2.8.0.tar.gz StartedAt: 2023-10-16 09:12:46 -0400 (Mon, 16 Oct 2023) EndedAt: 2023-10-16 09:14:09 -0400 (Mon, 16 Oct 2023) EllapsedTime: 82.7 seconds RetCode: 0 Status: OK PackageFile: onlineFDR_2.8.0.zip PackageFileSize: 1.597 MiB