Package: onlineFDR Version: 2.8.0 Command: /home/biocbuild/bbs-3.17-bioc/R/bin/R CMD INSTALL onlineFDR StartedAt: 2023-10-15 15:08:36 -0400 (Sun, 15 Oct 2023) EndedAt: 2023-10-15 15:09:42 -0400 (Sun, 15 Oct 2023) EllapsedTime: 65.7 seconds RetCode: 0 Status: OK