Package: onlineFDR Version: 2.8.0 Command: rm -rf onlineFDR.buildbin-libdir && mkdir onlineFDR.buildbin-libdir && /Users/biocbuild/BBS/utils/build-universal.sh onlineFDR_2.8.0.tar.gz /Library/Frameworks/R.framework/Resources/bin/R onlineFDR.buildbin-libdir StartedAt: 2023-10-16 09:52:00 -0400 (Mon, 16 Oct 2023) EndedAt: 2023-10-16 09:55:31 -0400 (Mon, 16 Oct 2023) EllapsedTime: 210.6 seconds RetCode: 0 Status: OK PackageFile: onlineFDR_2.8.0.tgz PackageFileSize: 1.241 MiB