Package: omicplotR Version: 1.20.0 Command: F:\biocbuild\bbs-3.17-bioc\R\bin\R.exe CMD check --no-multiarch --install=check:omicplotR.install-out.txt --library=F:\biocbuild\bbs-3.17-bioc\R\library --no-vignettes --timings omicplotR_1.20.0.tar.gz StartedAt: 2023-10-16 04:53:44 -0400 (Mon, 16 Oct 2023) EndedAt: 2023-10-16 04:55:20 -0400 (Mon, 16 Oct 2023) EllapsedTime: 95.9 seconds RetCode: 0 Status: OK CheckDir: omicplotR.Rcheck Warnings: 0