Package: omada Version: 1.2.0 Command: F:\biocbuild\bbs-3.17-bioc\R\bin\R.exe CMD INSTALL omada StartedAt: 2023-10-15 17:08:12 -0400 (Sun, 15 Oct 2023) EndedAt: 2023-10-15 17:08:12 -0400 (Sun, 15 Oct 2023) EllapsedTime: 0.4 seconds RetCode: 1 Status: ERROR