Package: omada Version: 1.1.0 Command: rm -rf omada.buildbin-libdir && mkdir omada.buildbin-libdir && F:\biocbuild\bbs-3.17-bioc\R\bin\R.exe CMD INSTALL --build --library=omada.buildbin-libdir omada_1.1.0.tar.gz StartedAt: 2023-03-16 08:39:38 -0400 (Thu, 16 Mar 2023) EndedAt: 2023-03-16 08:39:56 -0400 (Thu, 16 Mar 2023) EllapsedTime: 17.8 seconds RetCode: 0 Status: OK PackageFile: omada_1.1.0.zip PackageFileSize: 192.8 KiB