Package: octad Version: 1.2.0 Command: /home/biocbuild/bbs-3.17-bioc/R/bin/R CMD check --install=check:octad.install-out.txt --library=/home/biocbuild/bbs-3.17-bioc/R/site-library --timings octad_1.2.0.tar.gz StartedAt: 2023-10-15 23:23:36 -0400 (Sun, 15 Oct 2023) EndedAt: 2023-10-15 23:39:46 -0400 (Sun, 15 Oct 2023) EllapsedTime: 970.7 seconds RetCode: 1 Status: ERROR CheckDir: octad.Rcheck Warnings: NA