Package: nucleR Version: 2.32.0 Command: /home/biocbuild/bbs-3.17-bioc/R/bin/R CMD build --keep-empty-dirs --no-resave-data nucleR StartedAt: 2023-10-15 17:42:15 -0400 (Sun, 15 Oct 2023) EndedAt: 2023-10-15 17:43:58 -0400 (Sun, 15 Oct 2023) EllapsedTime: 102.6 seconds RetCode: 0 Status: OK PackageFile: nucleR_2.32.0.tar.gz PackageFileSize: 1.683 MiB