Package: nnSVG Version: 1.4.2 Command: F:\biocbuild\bbs-3.17-bioc\R\bin\R.exe CMD INSTALL nnSVG StartedAt: 2023-10-15 16:15:54 -0400 (Sun, 15 Oct 2023) EndedAt: 2023-10-15 16:16:23 -0400 (Sun, 15 Oct 2023) EllapsedTime: 29.5 seconds RetCode: 0 Status: OK