Package: nnSVG Version: 1.4.2 Command: F:\biocbuild\bbs-3.17-bioc\R\bin\R.exe CMD check --no-multiarch --install=check:nnSVG.install-out.txt --library=F:\biocbuild\bbs-3.17-bioc\R\library --no-vignettes --timings nnSVG_1.4.2.tar.gz StartedAt: 2023-10-16 04:47:01 -0400 (Mon, 16 Oct 2023) EndedAt: 2023-10-16 04:51:09 -0400 (Mon, 16 Oct 2023) EllapsedTime: 247.7 seconds RetCode: 0 Status: OK CheckDir: nnSVG.Rcheck Warnings: 0