Package: musicatk Version: 1.10.0 Command: chmod a+r musicatk -R && F:\biocbuild\bbs-3.17-bioc\R\bin\R.exe CMD build --keep-empty-dirs --no-resave-data musicatk StartedAt: 2023-10-15 20:45:57 -0400 (Sun, 15 Oct 2023) EndedAt: 2023-10-15 20:48:14 -0400 (Sun, 15 Oct 2023) EllapsedTime: 136.9 seconds RetCode: 0 Status: OK PackageFile: musicatk_1.10.0.tar.gz PackageFileSize: 2.204 MiB