Package: musicatk Version: 1.10.0 Command: rm -rf musicatk.buildbin-libdir && mkdir musicatk.buildbin-libdir && F:\biocbuild\bbs-3.17-bioc\R\bin\R.exe CMD INSTALL --build --library=musicatk.buildbin-libdir musicatk_1.10.0.tar.gz StartedAt: 2023-10-16 09:09:37 -0400 (Mon, 16 Oct 2023) EndedAt: 2023-10-16 09:10:46 -0400 (Mon, 16 Oct 2023) EllapsedTime: 69.1 seconds RetCode: 0 Status: OK PackageFile: musicatk_1.10.0.zip PackageFileSize: 3.482 MiB