Package: musicatk Version: 1.10.0 Command: rm -rf musicatk.buildbin-libdir && mkdir musicatk.buildbin-libdir && /Users/biocbuild/BBS/utils/build-universal.sh musicatk_1.10.0.tar.gz /Library/Frameworks/R.framework/Resources/bin/R musicatk.buildbin-libdir StartedAt: 2023-10-16 09:48:33 -0400 (Mon, 16 Oct 2023) EndedAt: 2023-10-16 09:51:15 -0400 (Mon, 16 Oct 2023) EllapsedTime: 162.2 seconds RetCode: 0 Status: OK PackageFile: musicatk_1.10.0.tgz PackageFileSize: 3.826 MiB