Package: multiscan Version: 1.60.0 Command: /home/biocbuild/bbs-3.17-bioc/R/bin/R CMD build --keep-empty-dirs --no-resave-data multiscan StartedAt: 2023-10-15 17:36:26 -0400 (Sun, 15 Oct 2023) EndedAt: 2023-10-15 17:36:33 -0400 (Sun, 15 Oct 2023) EllapsedTime: 7.3 seconds RetCode: 0 Status: OK PackageFile: multiscan_1.60.0.tar.gz PackageFileSize: 530 KiB