Package: msmsTests Version: 1.38.0 Command: /home/biocbuild/bbs-3.17-bioc/R/bin/R CMD build --keep-empty-dirs --no-resave-data msmsTests StartedAt: 2023-10-15 17:34:00 -0400 (Sun, 15 Oct 2023) EndedAt: 2023-10-15 17:34:48 -0400 (Sun, 15 Oct 2023) EllapsedTime: 47.9 seconds RetCode: 0 Status: OK PackageFile: msmsTests_1.38.0.tar.gz PackageFileSize: 300.8 KiB