Package: msmsTests Version: 1.38.0 Command: /Library/Frameworks/R.framework/Resources/bin/R CMD INSTALL msmsTests StartedAt: 2023-10-15 15:56:45 -0400 (Sun, 15 Oct 2023) EndedAt: 2023-10-15 15:57:39 -0400 (Sun, 15 Oct 2023) EllapsedTime: 53.7 seconds RetCode: 0 Status: OK