Package: msmsTests Version: 1.38.0 Command: /Library/Frameworks/R.framework/Resources/bin/R CMD build --keep-empty-dirs --no-resave-data msmsTests StartedAt: 2023-10-15 19:43:04 -0400 (Sun, 15 Oct 2023) EndedAt: 2023-10-15 19:45:55 -0400 (Sun, 15 Oct 2023) EllapsedTime: 171.9 seconds RetCode: 0 Status: OK PackageFile: msmsTests_1.38.0.tar.gz PackageFileSize: 548.3 KiB