Package: motifbreakR Version: 2.14.2 Command: F:\biocbuild\bbs-3.17-bioc\R\bin\R.exe CMD check --no-multiarch --install=check:motifbreakR.install-out.txt --library=F:\biocbuild\bbs-3.17-bioc\R\library --no-vignettes --timings motifbreakR_2.14.2.tar.gz StartedAt: 2023-10-16 04:20:30 -0400 (Mon, 16 Oct 2023) EndedAt: 2023-10-16 04:51:41 -0400 (Mon, 16 Oct 2023) EllapsedTime: 1871.0 seconds RetCode: 0 Status: WARNINGS CheckDir: motifbreakR.Rcheck Warnings: 2