Package: motifbreakR Version: 2.14.2 Command: /home/biocbuild/bbs-3.17-bioc/R/bin/R CMD build --keep-empty-dirs --no-resave-data motifbreakR StartedAt: 2023-10-15 17:31:36 -0400 (Sun, 15 Oct 2023) EndedAt: 2023-10-15 17:37:46 -0400 (Sun, 15 Oct 2023) EllapsedTime: 369.5 seconds RetCode: 0 Status: OK PackageFile: motifbreakR_2.14.2.tar.gz PackageFileSize: 2.16 MiB