Package: motifbreakR Version: 2.14.2 Command: /Library/Frameworks/R.framework/Resources/bin/R CMD build --keep-empty-dirs --no-resave-data motifbreakR StartedAt: 2023-10-15 19:38:15 -0400 (Sun, 15 Oct 2023) EndedAt: 2023-10-15 19:54:48 -0400 (Sun, 15 Oct 2023) EllapsedTime: 993.3 seconds RetCode: 0 Status: OK PackageFile: motifbreakR_2.14.2.tar.gz PackageFileSize: 2.208 MiB