Package: moanin Version: 1.8.0 Command: /Library/Frameworks/R.framework/Resources/bin/R CMD check --install=check:moanin.install-out.txt --library=/Library/Frameworks/R.framework/Resources/library --no-vignettes --timings moanin_1.8.0.tar.gz StartedAt: 2023-10-16 04:06:31 -0400 (Mon, 16 Oct 2023) EndedAt: 2023-10-16 04:19:17 -0400 (Mon, 16 Oct 2023) EllapsedTime: 765.9 seconds RetCode: 0 Status: OK CheckDir: moanin.Rcheck Warnings: 0