Package: missRows Version: 1.20.0 Command: F:\biocbuild\bbs-3.17-bioc\R\bin\R.exe CMD check --no-multiarch --install=check:missRows.install-out.txt --library=F:\biocbuild\bbs-3.17-bioc\R\library --no-vignettes --timings missRows_1.20.0.tar.gz StartedAt: 2023-10-16 04:12:35 -0400 (Mon, 16 Oct 2023) EndedAt: 2023-10-16 04:15:24 -0400 (Mon, 16 Oct 2023) EllapsedTime: 168.7 seconds RetCode: 0 Status: OK CheckDir: missRows.Rcheck Warnings: 0