Package: missMethyl Version: 1.34.0 Command: F:\biocbuild\bbs-3.17-bioc\R\bin\R.exe CMD INSTALL missMethyl StartedAt: 2023-10-15 16:59:17 -0400 (Sun, 15 Oct 2023) EndedAt: 2023-10-15 17:03:21 -0400 (Sun, 15 Oct 2023) EllapsedTime: 244.2 seconds RetCode: 0 Status: OK