Package: missMethyl Version: 1.34.0 Command: chmod a+r missMethyl -R && F:\biocbuild\bbs-3.17-bioc\R\bin\R.exe CMD build --keep-empty-dirs --no-resave-data missMethyl StartedAt: 2023-10-15 20:30:19 -0400 (Sun, 15 Oct 2023) EndedAt: 2023-10-15 20:44:46 -0400 (Sun, 15 Oct 2023) EllapsedTime: 867.9 seconds RetCode: 0 Status: OK PackageFile: missMethyl_1.34.0.tar.gz PackageFileSize: 667.7 KiB