Package: missMethyl Version: 1.34.0 Command: /home/biocbuild/bbs-3.17-bioc/R/bin/R CMD check --install=check:missMethyl.install-out.txt --library=/home/biocbuild/bbs-3.17-bioc/R/site-library --timings missMethyl_1.34.0.tar.gz StartedAt: 2023-10-15 22:54:48 -0400 (Sun, 15 Oct 2023) EndedAt: 2023-10-15 23:21:14 -0400 (Sun, 15 Oct 2023) EllapsedTime: 1586.7 seconds RetCode: 0 Status: OK CheckDir: missMethyl.Rcheck Warnings: 0