Package: missMethyl Version: 1.34.0 Command: /Library/Frameworks/R.framework/Resources/bin/R CMD check --install=check:missMethyl.install-out.txt --library=/Library/Frameworks/R.framework/Resources/library --no-vignettes --timings missMethyl_1.34.0.tar.gz StartedAt: 2023-10-16 04:03:05 -0400 (Mon, 16 Oct 2023) EndedAt: 2023-10-16 04:36:13 -0400 (Mon, 16 Oct 2023) EllapsedTime: 1987.3 seconds RetCode: 0 Status: OK CheckDir: missMethyl.Rcheck Warnings: 0