Package: miRspongeR Version: 2.4.0 Command: rm -rf miRspongeR.buildbin-libdir && mkdir miRspongeR.buildbin-libdir && /Users/biocbuild/BBS/utils/build-universal.sh miRspongeR_2.4.0.tar.gz /Library/Frameworks/R.framework/Resources/bin/R miRspongeR.buildbin-libdir StartedAt: 2023-10-16 09:44:45 -0400 (Mon, 16 Oct 2023) EndedAt: 2023-10-16 09:46:44 -0400 (Mon, 16 Oct 2023) EllapsedTime: 118.6 seconds RetCode: 0 Status: OK PackageFile: miRspongeR_2.4.0.tgz PackageFileSize: 794.9 KiB