Package: methylumi Version: 2.46.0 Command: /Library/Frameworks/R.framework/Resources/bin/R CMD check --install=check:methylumi.install-out.txt --library=/Library/Frameworks/R.framework/Resources/library --no-vignettes --timings methylumi_2.46.0.tar.gz StartedAt: 2023-10-16 03:48:44 -0400 (Mon, 16 Oct 2023) EndedAt: 2023-10-16 04:02:24 -0400 (Mon, 16 Oct 2023) EllapsedTime: 820.0 seconds RetCode: 0 Status: OK CheckDir: methylumi.Rcheck Warnings: 0