Package: methylscaper Version: 1.8.6 Command: F:\biocbuild\bbs-3.17-bioc\R\bin\R.exe CMD check --no-multiarch --install=check:methylscaper.install-out.txt --library=F:\biocbuild\bbs-3.17-bioc\R\library --no-vignettes --timings methylscaper_1.8.6.tar.gz StartedAt: 2023-10-16 03:59:21 -0400 (Mon, 16 Oct 2023) EndedAt: 2023-10-16 04:02:17 -0400 (Mon, 16 Oct 2023) EllapsedTime: 175.5 seconds RetCode: 0 Status: OK CheckDir: methylscaper.Rcheck Warnings: 0