Package: methylSig Version: 1.12.0 Command: F:\biocbuild\bbs-3.17-bioc\R\bin\R.exe CMD INSTALL methylSig StartedAt: 2023-10-15 16:16:08 -0400 (Sun, 15 Oct 2023) EndedAt: 2023-10-15 16:17:02 -0400 (Sun, 15 Oct 2023) EllapsedTime: 53.9 seconds RetCode: 0 Status: OK