Package: methylSig Version: 1.12.0 Command: rm -rf methylSig.buildbin-libdir && mkdir methylSig.buildbin-libdir && F:\biocbuild\bbs-3.17-bioc\R\bin\R.exe CMD INSTALL --build --library=methylSig.buildbin-libdir methylSig_1.12.0.tar.gz StartedAt: 2023-10-16 09:04:29 -0400 (Mon, 16 Oct 2023) EndedAt: 2023-10-16 09:05:25 -0400 (Mon, 16 Oct 2023) EllapsedTime: 55.8 seconds RetCode: 0 Status: OK PackageFile: methylSig_1.12.0.zip PackageFileSize: 587.4 KiB