Package: methylKit Version: 1.26.0 Command: rm -rf methylKit.buildbin-libdir && mkdir methylKit.buildbin-libdir && /Users/biocbuild/BBS/utils/build-universal.sh methylKit_1.26.0.tar.gz /Library/Frameworks/R.framework/Resources/bin/R methylKit.buildbin-libdir StartedAt: 2023-10-16 09:42:31 -0400 (Mon, 16 Oct 2023) EndedAt: 2023-10-16 09:45:55 -0400 (Mon, 16 Oct 2023) EllapsedTime: 203.3 seconds RetCode: 0 Status: OK PackageFile: methylKit_1.26.0.tgz PackageFileSize: 2.727 MiB