Package: metaMS Version: 1.36.0 Command: /home/biocbuild/bbs-3.17-bioc/R/bin/R CMD INSTALL metaMS StartedAt: 2023-10-15 15:39:55 -0400 (Sun, 15 Oct 2023) EndedAt: 2023-10-15 15:40:32 -0400 (Sun, 15 Oct 2023) EllapsedTime: 37.5 seconds RetCode: 0 Status: OK